BEGIN:VCALENDAR
VERSION:2.0
PRODID:-//MyPossibilities - ECPv6.6.4.2//NONSGML v1.0//EN
CALSCALE:GREGORIAN
METHOD:PUBLISH
X-ORIGINAL-URL:https://mypossibilities.org
X-WR-CALDESC:Events for MyPossibilities
REFRESH-INTERVAL;VALUE=DURATION:PT1H
X-Robots-Tag:noindex
X-PUBLISHED-TTL:PT1H
BEGIN:VTIMEZONE
TZID:UTC
BEGIN:STANDARD
TZOFFSETFROM:+0000
TZOFFSETTO:+0000
TZNAME:UTC
DTSTART:20190101T000000
END:STANDARD
END:VTIMEZONE
BEGIN:VEVENT
DTSTART;TZID=UTC:20190608T093000
DTEND;TZID=UTC:20190608T120000
DTSTAMP:20260421T215333
CREATED:20190603T175835Z
LAST-MODIFIED:20190603T180927Z
UID:2321-1559986200-1559995200@mypossibilities.org
SUMMARY:Free ABLE educational Workshop
DESCRIPTION:Must RSVP by June 2 to rsvp@mptx.org
URL:https://mypossibilities.org/event/free-able-educational-workshop/
LOCATION:My Possibilities Campus for Higher Learning\, 3601 Mapleshade Lane\, Plano\, TX\, United States
END:VEVENT
END:VCALENDAR