BEGIN:VCALENDAR
VERSION:2.0
PRODID:-//MyPossibilities - ECPv6.6.4.2//NONSGML v1.0//EN
CALSCALE:GREGORIAN
METHOD:PUBLISH
X-WR-CALNAME:MyPossibilities
X-ORIGINAL-URL:https://mypossibilities.org
X-WR-CALDESC:Events for MyPossibilities
REFRESH-INTERVAL;VALUE=DURATION:PT1H
X-Robots-Tag:noindex
X-PUBLISHED-TTL:PT1H
BEGIN:VTIMEZONE
TZID:UTC
BEGIN:STANDARD
TZOFFSETFROM:+0000
TZOFFSETTO:+0000
TZNAME:UTC
DTSTART:20240101T000000
END:STANDARD
END:VTIMEZONE
BEGIN:VEVENT
DTSTART;TZID=UTC:20240905T190000
DTEND;TZID=UTC:20240905T203000
DTSTAMP:20260420T090726
CREATED:20240624T154747Z
LAST-MODIFIED:20240724T155719Z
UID:5215-1725562800-1725568200@mypossibilities.org
SUMMARY:HIPster Showcase
DESCRIPTION:HIPster Showcase is funded in part by the City of Plano. \nvisitplano.com \nSept. 5 | Doors open at 6:30 p.m. \nTicket sales open Aug. 1 \nPurchase Your Tickets | Purchase a Playbill Ad
URL:https://mypossibilities.org/event/hipster-showcase/
LOCATION:First Baptist Plano\, 3665 W President George Bush Hwy\, Plano\, Texas\, 75075\, United States
END:VEVENT
END:VCALENDAR